BEGIN:VCALENDAR
VERSION:2.0
PRODID:icalendar-ruby
CALSCALE:GREGORIAN
BEGIN:VEVENT
DTSTAMP:20260420T135408Z
UID:28df848c-4695-4ecc-adb3-53517c3e2a7d
DTSTART:20260428T000000
DTEND:20260428T000000
DESCRIPTION:
LOCATION:Москва\, бул. Большой\, д. 42\, стр. 1
ORGANIZER:mailto:conference@vedomosti.ru
SUMMARY:ИИ без иллюзий: что действительно ра
 ботает для бизнеса
URL:http://events.vedomosti.ru/events/AI26
BEGIN:VALARM
ACTION:DISPLAY
TRIGGER:-P1D
DESCRIPTION:Завтра\, в 00:00. ИИ без иллюзий: что д
 ействительно работает для бизнеса
END:VALARM
END:VEVENT
END:VCALENDAR
